BEGIN:VCALENDAR
VERSION:2.0
PRODID:-//https://tidewater-hoa.com///NONSGML kigkonsult.se iCalcreator 2.10.15//
METHOD:PUBLISH
BEGIN:VEVENT
UID:20260423T154105MDT-1328uV06PU@https://tidewater-hoa.com/
DTSTAMP:20260423T214105Z
DESCRIPTION:&nbsp\;We ask that you return your proxy for quorum purposes\, 
 even if you plan to attend the in-person meeting so that a quorum is met.&
 nbsp\;\nIf you have any questions\, please contact the Tidewater HOA https
 ://tidewater-hoa.com/news/events/event/40-tidewater-hoa-annual-meeting
DTSTART:20260111T200000Z
DTEND:20260111T210000Z
LOCATION:New Albany Links  (7100 New Albany Links Dr\, New Albany\, OH 4305
 4)
SUMMARY:Tidewater HOA Annual Meeting
URL:https://tidewater-hoa.com/news/events/event/40-tidewater-hoa-annual-mee
 ting
END:VEVENT
END:VCALENDAR
