BEGIN:VCALENDAR
VERSION:2.0
PRODID:-//https://tidewater-hoa.com///NONSGML kigkonsult.se iCalcreator 2.10.15//
METHOD:PUBLISH
BEGIN:VEVENT
UID:20260423T140826MDT-5976SVuAui@https://tidewater-hoa.com/
DTSTAMP:20260423T200826Z
DESCRIPTION:A monthly Farmers Market is held inside the Philip Heit Center 
 for Healthy New Albany on the first Saturday of the month November 1\, 202
 5 - March 7\, 2026. We hope you’ll join us for an array of local produce\,
  baked goods\, coffee\, artisan products\, food trucks\, music\, and more 
 from approximately 30 merchants per week. https://tidewater-hoa.com/news/e
 vents/event/56-new-albany-indoor-farmers-market
DTSTART:20260207T140000Z
DTEND:20260207T170000Z
LOCATION:Philip Heit Center for Healthy New Albany 150 West Main Street New
  Albany\, Ohio 43054 (150 West Main Street New Albany\, Ohio 43054)
SUMMARY:New Albany Indoor Farmers Market
URL:https://tidewater-hoa.com/news/events/event/56-new-albany-indoor-farmer
 s-market
END:VEVENT
END:VCALENDAR
