BEGIN:VCALENDAR
VERSION:2.0
PRODID:-//https://tidewater-hoa.com///NONSGML kigkonsult.se iCalcreator 2.10.15//
METHOD:PUBLISH
BEGIN:VEVENT
UID:20260423T101544MDT-8832RP41Gg@https://tidewater-hoa.com/
DTSTAMP:20260423T161544Z
DESCRIPTION:Tax Day https://tidewater-hoa.com/news/events/event/66-tax-day
DTSTART;VALUE=DATE:20260415
LOCATION:Tidewater New Albany ()
SUMMARY:Tax Day
URL:https://tidewater-hoa.com/news/events/event/66-tax-day
END:VEVENT
END:VCALENDAR
