BEGIN:VCALENDAR
VERSION:2.0
PRODID:-//https://tidewater-hoa.com///NONSGML kigkonsult.se iCalcreator 2.10.15//
METHOD:PUBLISH
BEGIN:VEVENT
UID:20260424T011653MDT-4416WgUVId@https://tidewater-hoa.com/
DTSTAMP:20260424T071653Z
DESCRIPTION:Presented by the New Albany Chamber of Commerce\, Oktoberfest i
 s a two-day community festival held September 23 &amp\; 24\, 2022. This fr
 ee family event features food vendors\, live entertainment\, beer\, wine\,
  cocktails\, OSU game on the Superscreen\, and beer garden. Kid Zone activ
 ities include bounce houses\, balloon twisters\, face painters\, caricatur
 e artists\, photo stations\, and more!&nbsp\;Oktoberfest Volunteer Opportu
 nitiesOktoberfest Sponsorship OpportunitiesFOOD TRUCK OPPORTUNITIES1 Day (
 Fri or Sat) $1002 Day (Fri &amp\; Sat) $200https://cm.newalbanychamber.com
 /events/details/oktoberfest-15306?calendarMonth=2022-09-01 https://tidewat
 er-hoa.com/news/events/event/1-oktoberfest
DTSTART:20220923T153000Z
DTEND:20220924T230000Z
LOCATION:6600 E dublin-granville rd New Albany OH 43054 (6600 E dublin-gran
 ville rd New Albany OH 43054)
SUMMARY:Oktoberfest
URL:https://tidewater-hoa.com/news/events/event/1-oktoberfest
END:VEVENT
END:VCALENDAR
