BEGIN:VCALENDAR
VERSION:2.0
PRODID:-//https://tidewater-hoa.com///NONSGML kigkonsult.se iCalcreator 2.10.15//
METHOD:PUBLISH
BEGIN:VEVENT
UID:20260424T014334MDT-1402Kn3h45@https://tidewater-hoa.com/
DTSTAMP:20260424T074334Z
DESCRIPTION:Why attend?\nThe annual meeting is when many decisions are made
 \, and issues are voted on. This requires a quorum\, which means a certain
  number or percentage of members must be in attendance. It’s your chance t
 o have input on how the association is run\, the budget\, and what project
 s or plans are set for the future. This is also when new board members are
  elected\, so you’ll want to be there to decide who you want to be leading
  the HOA.&nbsp\;&nbsp\;Take the time to get involved in your community and
  understand what is happening and why.\n\nStay Informed\nGet Involved\nVot
 e\nMeet People\n\nMeetings bring everyone together and can allow you to in
 troduce yourself to neighbors and other members you may not see very often
 . You can see who is concerned about what issues or has recommendations fo
 r changes. If it’s something you’re interested in as well\, you can work t
 ogether toward researching the matter and gaining buy-in from others. http
 s://tidewater-hoa.com/news/events/event/19-tidewater-hoa-annual-meeting
DTSTART:20220109T070034Z
DTEND:20220109T080000Z
LOCATION:Zoom ()
SUMMARY:Tidewater HOA Annual Meeting
URL:https://tidewater-hoa.com/news/events/event/19-tidewater-hoa-annual-mee
 ting
END:VEVENT
END:VCALENDAR
