BEGIN:VCALENDAR
VERSION:2.0
PRODID:-//https://tidewater-hoa.com///NONSGML kigkonsult.se iCalcreator 2.10.15//
METHOD:PUBLISH
BEGIN:VEVENT
UID:20260424T013038MDT-3740P5gpcM@https://tidewater-hoa.com/
DTSTAMP:20260424T073038Z
DESCRIPTION:&nbsp\;Fall Festival Event- Sept 24\, 3-7pmCommon area along Ce
 ntral College.Fun - Friends - Music - Good Eats &amp\; Drinks\nCornhole To
 urnament Starts at 4pm.Register your team at&nbsp\;https://bit.ly/TWcornho
 le2022 https://tidewater-hoa.com/news/events/event/20-fall-festival
DTSTART:20220924T190058Z
DTEND:20220924T230000Z
LOCATION:Common area along Central College ()
SUMMARY:Fall Festival
URL:https://tidewater-hoa.com/news/events/event/20-fall-festival
END:VEVENT
END:VCALENDAR
