BEGIN:VCALENDAR
VERSION:2.0
PRODID:-//https://tidewater-hoa.com///NONSGML kigkonsult.se iCalcreator 2.10.15//
METHOD:PUBLISH
BEGIN:VEVENT
UID:20260424T014334MDT-6435VuG6g1@https://tidewater-hoa.com/
DTSTAMP:20260424T074334Z
DESCRIPTION:The City of New Albany will be hosting a Touch-a-Truck event at
  the Public Service complex on Saturday\, August 20. The day will begin wi
 th a special sensory-friendly hour from 9-10 a.m.\, followed by hours for 
 the general public from 10 a.m. to 12:30 p.m. This rain-or-shine event giv
 es kids the chance to get an up-close look at City vehicles and to talk wi
 th police officers\, firefighters and public service crews. We are also te
 aming up with the Healthy New Albany Food Pantry to host a breakfast-theme
 d food drive at the event. They are kindly requesting that attendees bring
  cereal\, instant oatmeal\, canister oatmeal\, quick bread mix or applesau
 ce.&nbsp\; https://tidewater-hoa.com/news/events/event/21-new-albany-touch
 -a-truck
DTSTART:20220820T140000Z
DTEND:20220821T163000Z
LOCATION:Public Service complex: 7800 Bevelhymer Rd. New Albany\, OH 43054 
 (7800 Bevelhymer Rd. New Albany\, OH 43054)
SUMMARY:New Albany Touch-a-Truck
URL:https://tidewater-hoa.com/news/events/event/21-new-albany-touch-a-truck
END:VEVENT
END:VCALENDAR
