BEGIN:VCALENDAR
VERSION:2.0
PRODID:-//https://tidewater-hoa.com///NONSGML kigkonsult.se iCalcreator 2.10.15//
METHOD:PUBLISH
BEGIN:VEVENT
UID:20260424T014312MDT-7207x8fS4V@https://tidewater-hoa.com/
DTSTAMP:20260424T074312Z
DESCRIPTION:The recommended trick-or-treat date for 2022 is&nbsp\;Monday\, 
 Oct. 31.\nFor several years\, our local government members have supported 
 a suggested\, unified trick-or-treat date for the region.\nWhen Halloween\
 , October 31\, falls on a Friday\, Saturday\, or Sunday\, Trick or Treat i
 s held the Thursday prior to October 31.\nWhen October 31 falls on a Monda
 y\, Tuesday\, Wednesday\, or Thursday\, Trick or Treat is held on October 
 31.\nInclement weather:&nbsp\;In the event of inclement weather\, the reco
 mmended date will not change. Parents/guardians are encouraged to exercise
  good judgment in allowing children to participate. https://tidewater-hoa.
 com/news/events/event/22-trick-or-treat
DTSTART:20221031T220023Z
DTEND:20221101T000000Z
LOCATION:Tidewater neighborhood ()
SUMMARY:Trick-or-Treat
URL:https://tidewater-hoa.com/news/events/event/22-trick-or-treat
END:VEVENT
END:VCALENDAR
