BEGIN:VCALENDAR
VERSION:2.0
PRODID:-//https://tidewater-hoa.com///NONSGML kigkonsult.se iCalcreator 2.10.15//
METHOD:PUBLISH
BEGIN:VEVENT
UID:20260424T014328MDT-2806sLmH4e@https://tidewater-hoa.com/
DTSTAMP:20260424T074328Z
DESCRIPTION:It's back!&nbsp\; And now its your time to shine with the best 
 holiday lights in Tidewater.&nbsp\; This year we will have three categorie
 s:\n\nFan Favorite: Most popular choice from neighbor votes.\nThemed: You 
 have a running theme happening with your lighted display.\nWow Factor: You
  light the whole neighborhood block up.\n\nJudging - Dec 16-21\, 2022.Winn
 ers will be notified and announced by Dec 22\, 2022. Neighbors are encoura
 ged to vote through the Tidewater HOA Facebook page or by the Tidewater em
 ail.Rules - Only residents of Tidewater are eligible. Board members and ju
 dges are not eligible.• Lights should not go up prior to November 15th• Li
 ghts should not be turned on prior to Nov 23rd• Lights should be turned of
 f by Jan 15th• Lights should be taken down by Feb 15th https://tidewater-h
 oa.com/news/events/event/23-4th-annual-holiday-lights-contest
DTSTART;VALUE=DATE:20221215
LOCATION:Tidewater New Albany ()
SUMMARY:4th Annual Holiday Lights Contest
URL:https://tidewater-hoa.com/news/events/event/23-4th-annual-holiday-light
 s-contest
END:VEVENT
END:VCALENDAR
