BEGIN:VCALENDAR
VERSION:2.0
PRODID:-//https://tidewater-hoa.com///NONSGML kigkonsult.se iCalcreator 2.10.15//
METHOD:PUBLISH
BEGIN:VEVENT
UID:20260424T012146MDT-5781eSNPMM@https://tidewater-hoa.com/
DTSTAMP:20260424T072146Z
DESCRIPTION:The half marathon is back. North America’s largest walking-only
  race could not ignore the overwhelming wishes of our participants. We hav
 e listened! Now walkers will have the option of participating in the 10k d
 istance (6.2 miles) or the half marathon (13.1 miles) in the nation’s prem
 ier walking-only event where athletes can walk for health and/or competiti
 on. For additional information\, visit&nbsp\;newalbanywalkingclassic.com\n
 Virtual participation in the 10k or half marathon is also an option. https
 ://tidewater-hoa.com/news/events/event/24-new-albany-walking-classic
DTSTART;VALUE=DATE:20220911
LOCATION:200 Market St\, New Albany\, OH (200 Market St\, New Albany\, OH)
SUMMARY:New Albany Walking Classic
URL:https://tidewater-hoa.com/news/events/event/24-new-albany-walking-class
 ic
END:VEVENT
END:VCALENDAR
