BEGIN:VCALENDAR
VERSION:2.0
PRODID:-//https://tidewater-hoa.com///NONSGML kigkonsult.se iCalcreator 2.10.15//
METHOD:PUBLISH
BEGIN:VEVENT
UID:20260424T014444MDT-61715641ko@https://tidewater-hoa.com/
DTSTAMP:20260424T074444Z
DESCRIPTION:The Healthy New Albany Farmers Market has become a community st
 aple over the last decade (plus some). We are excited to announce the date
 s for our 2022 summer farmers market season: Thursdays June 23rd - Septemb
 er 15th Open 4-7 pm in Market Square.Join us weekly for an array of local 
 produce\, baked goods\, coffee\, cold treats\, artisan products\, food tru
 cks\, and more. The 2022 HNA Farmers Market is presented by the New Albany
  Community Foundation. https://tidewater-hoa.com/news/events/event/29-new-
 albany-farmers-market
DTSTART:20220915T200000Z
DTEND:20220915T230000Z
LOCATION:Market Square New Albany\, OH 43054 ()
SUMMARY:New Albany Farmers Market
URL:https://tidewater-hoa.com/news/events/event/29-new-albany-farmers-marke
 t
END:VEVENT
END:VCALENDAR
