BEGIN:VCALENDAR
VERSION:2.0
PRODID:-//https://tidewater-hoa.com///NONSGML kigkonsult.se iCalcreator 2.10.15//
METHOD:PUBLISH
BEGIN:VEVENT
UID:20260423T162414MDT-3792GFn9bj@https://tidewater-hoa.com/
DTSTAMP:20260423T222414Z
DESCRIPTION:Welcome to the first food truck in our Spring and Summer food t
 ruck Thursday's. https://tidewater-hoa.com/news/events/event/30-food-truck
 -series-red-head-chef
DTSTART:20240502T203000Z
DTEND:20240502T233000Z
LOCATION:Tidewater New Albany ()
SUMMARY:Food Truck Series - Red Head Chef
URL:https://tidewater-hoa.com/news/events/event/30-food-truck-series-red-he
 ad-chef
END:VEVENT
END:VCALENDAR
