BEGIN:VCALENDAR
VERSION:2.0
PRODID:-//https://tidewater-hoa.com///NONSGML kigkonsult.se iCalcreator 2.10.15//
METHOD:PUBLISH
BEGIN:VEVENT
UID:20260423T162739MDT-7220JCKMMZ@https://tidewater-hoa.com/
DTSTAMP:20260423T222739Z
DESCRIPTION:Welcome to the second food truck in our Spring and Summer food 
 truck Thursday's. https://tidewater-hoa.com/news/events/event/31-food-truc
 k-series-food-truck-series-mustafa-s-halal-gyro
DTSTART:20240516T203000Z
DTEND:20240516T233000Z
LOCATION:Tidewater New Albany ()
SUMMARY:Food Truck Series - Food Truck Series - Mustafa’s Halal Gyro
URL:https://tidewater-hoa.com/news/events/event/31-food-truck-series-food-t
 ruck-series-mustafa-s-halal-gyro
END:VEVENT
END:VCALENDAR
