BEGIN:VCALENDAR
VERSION:2.0
PRODID:-//https://tidewater-hoa.com///NONSGML kigkonsult.se iCalcreator 2.10.15//
METHOD:PUBLISH
BEGIN:VEVENT
UID:20260423T162425MDT-8355k0j0Bb@https://tidewater-hoa.com/
DTSTAMP:20260423T222425Z
DESCRIPTION:Welcome to the third food truck in our Spring and Summer food t
 ruck Thursday's. https://tidewater-hoa.com/news/events/event/32-food-truck
 -series-my-chick-n-bites
DTSTART:20240530T203000Z
DTEND:20240530T233000Z
LOCATION:Tidewater New Albany ()
SUMMARY:Food Truck Series - My Chick’N Bites
URL:https://tidewater-hoa.com/news/events/event/32-food-truck-series-my-chi
 ck-n-bites
END:VEVENT
END:VCALENDAR
