BEGIN:VCALENDAR
VERSION:2.0
PRODID:-//https://tidewater-hoa.com///NONSGML kigkonsult.se iCalcreator 2.10.15//
METHOD:PUBLISH
BEGIN:VEVENT
UID:20260423T162147MDT-9557sdd7kd@https://tidewater-hoa.com/
DTSTAMP:20260423T222147Z
DESCRIPTION:Welcome to the fourth food truck in our Spring and Summer food 
 truck Thursday's. https://tidewater-hoa.com/news/events/event/33-food-truc
 k-series-my-chick-n-bites
DTSTART:20240711T203000Z
DTEND:20240711T233000Z
LOCATION:Tidewater New Albany ()
SUMMARY:Food Truck Series - My Chick’N Bites
URL:https://tidewater-hoa.com/news/events/event/33-food-truck-series-my-chi
 ck-n-bites
END:VEVENT
END:VCALENDAR
