BEGIN:VCALENDAR
VERSION:2.0
PRODID:-//https://tidewater-hoa.com///NONSGML kigkonsult.se iCalcreator 2.10.15//
METHOD:PUBLISH
BEGIN:VEVENT
UID:20260423T162301MDT-9779kl9Lht@https://tidewater-hoa.com/
DTSTAMP:20260423T222301Z
DESCRIPTION:Welcome to the fifth food truck in our Spring and Summer food t
 ruck Thursday's. https://tidewater-hoa.com/news/events/event/34-food-truck
 -series-buckeye-crepes
DTSTART:20240627T203000Z
DTEND:20240627T233000Z
LOCATION:Tidewater New Albany ()
SUMMARY:Food Truck Series - Buckeye Crepes
URL:https://tidewater-hoa.com/news/events/event/34-food-truck-series-buckey
 e-crepes
END:VEVENT
END:VCALENDAR
