BEGIN:VCALENDAR
VERSION:2.0
PRODID:-//https://tidewater-hoa.com///NONSGML kigkonsult.se iCalcreator 2.10.15//
METHOD:PUBLISH
BEGIN:VEVENT
UID:20260423T162614MDT-6152ZbDB3i@https://tidewater-hoa.com/
DTSTAMP:20260423T222614Z
DESCRIPTION:Welcome to the Summer food truck Thursday's. https://tidewater-
 hoa.com/news/events/event/35-food-truck-series-machi-hibachi
DTSTART:20240725T203000Z
DTEND:20240725T233000Z
LOCATION:Tidewater New Albany ()
SUMMARY:Food Truck Series - Machi Hibachi
URL:https://tidewater-hoa.com/news/events/event/35-food-truck-series-machi-
 hibachi
END:VEVENT
END:VCALENDAR
