BEGIN:VCALENDAR
VERSION:2.0
PRODID:-//https://tidewater-hoa.com///NONSGML kigkonsult.se iCalcreator 2.10.15//
METHOD:PUBLISH
BEGIN:VEVENT
UID:20260423T163429MDT-8469mAgVif@https://tidewater-hoa.com/
DTSTAMP:20260423T223429Z
DESCRIPTION:For the full list of activities and events:&nbsp\;https://newal
 banyfoundersday.com/schedule/ https://tidewater-hoa.com/news/events/event/
 36-new-albany-founders-day-festival
DTSTART:20240511T150000Z
DTEND:20240511T210000Z
LOCATION:Rose Run Park\, New Albany ()
SUMMARY:New Albany Founders Day Festival
URL:https://tidewater-hoa.com/news/events/event/36-new-albany-founders-day-
 festival
END:VEVENT
END:VCALENDAR
