BEGIN:VCALENDAR
VERSION:2.0
PRODID:-//https://tidewater-hoa.com///NONSGML kigkonsult.se iCalcreator 2.10.15//
METHOD:PUBLISH
BEGIN:VEVENT
UID:20260423T222739MDT-4134vGwNpS@https://tidewater-hoa.com/
DTSTAMP:20260424T042739Z
DESCRIPTION:The Healthy New Albany Farmers Market has become a community st
 aple over the last decade (plus some). We are excited to announce the date
 s for our 2024 summer farmers market season: Thursdays\, 4-7 pm in Market 
 Square.Join us weekly for an array of local produce\, baked goods\, coffee
 \, cold treats\, artisan products\, food trucks\, and more. The 2024 HNA F
 armers Market is presented by the New Albany Community Foundation.\nhttps:
 //cm.newalbanychamber.com/events/details/healthy-new-albany-farmers-market
 -06-06-2024-18575?calendarMonth=2024-06-01 https://tidewater-hoa.com/news/
 events/event/37-new-albany-farmers-market
DTSTART:20240606T040000Z
DTEND:20240606T230000Z
LOCATION:Market Square New Albany\, OH 43054 ()
SUMMARY:New Albany Farmers Market
URL:https://tidewater-hoa.com/news/events/event/37-new-albany-farmers-marke
 t
END:VEVENT
END:VCALENDAR
