BEGIN:VCALENDAR
VERSION:2.0
PRODID:-//https://tidewater-hoa.com///NONSGML kigkonsult.se iCalcreator 2.10.15//
METHOD:PUBLISH
BEGIN:VEVENT
UID:20260423T180327MDT-81628AwOOj@https://tidewater-hoa.com/
DTSTAMP:20260424T000327Z
DESCRIPTION:No time to go to City Council Meetings? Concerned about School 
 District capacity but no time to research? Questions about tax impact? We’
 ve got you! The New Albany Links HOA is bringing the updates to YOU!\nJoin
  us this Wednesday for a Town Hall and hear brief presentations and update
 s from NAPLS Superintendent Micheal Sawyers\, City Manager Joe Stefanov\, 
 Mayor Sloan Spaulding\, City Council Member and Links resident Chip Fellow
 s\, Senior City staff and more\, followed by Q&amp\;A. Wednesday\, Septemb
 er 4th 6:15pm-7:30pm New Albany Links Clubhouse Tent Water and Lemonade pr
 ovided.\n&nbsp\;\nCash Bar\, and a special prize drawing for attendees (co
 urtesy of our friends at Tidewater HOA). All are welcome! This will be imp
 ortant to attend\, as we anticipate much new growth and development in the
  months and years ahead! This is not an HOA meeting. https://tidewater-hoa
 .com/news/events/event/38-town-hall-meeting-with-the-city-of-new-albany
DTSTART:20240904T221502Z
DTEND:20240904T233000Z
LOCATION:New Albany Links  (7100 New Albany Links Dr\, New Albany\, OH 4305
 4)
SUMMARY:Town Hall Meeting with the City of New Albany
URL:https://tidewater-hoa.com/news/events/event/38-town-hall-meeting-with-t
 he-city-of-new-albany
END:VEVENT
END:VCALENDAR
