BEGIN:VCALENDAR
VERSION:2.0
PRODID:-//https://tidewater-hoa.com///NONSGML kigkonsult.se iCalcreator 2.10.15//
METHOD:PUBLISH
BEGIN:VEVENT
UID:20260423T161240MDT-7579hdr7GF@https://tidewater-hoa.com/
DTSTAMP:20260423T221240Z
DESCRIPTION:Tidewater is consistently one of Ohio’s safest communities. A r
 eason for this low crime rate is the strong interaction between our office
 rs\, residents and businesses.&nbsp\; The New Albany Police Department wan
 ts to work with Tidewater to set the foundation for an even safer communit
 y.&nbsp\; Come meet our new Safety Officer Warner October 3rd at 6pm on Mc
 Clellan Drive in the Commons. The HOA is also currently working on getting
  a Food Truck for the same time period.&nbsp\; So\, have dinner and do the
  meet and greet!&nbsp\;The New Albany Police Department and Tidewater Neig
 hborhood Block Watch program is a program designed to engage residents wit
 h law enforcement to solve issues involving crime and social concerns in o
 ur community. The New Albany Police Department Officer will attend meeting
 s as a resource on a quarterly basis\, conduct safety presentations and pr
 ovide safety tips for Tidewater Residents.Come meet Officer Warner and bri
 ng questions and/or concerns about traffic\, safety\, crime\, or anything 
 else of interest.&nbsp\; https://tidewater-hoa.com/news/events/event/39-ti
 dewater-block-watch-program
DTSTART:20241003T220000Z
DTEND:20241003T230000Z
LOCATION:Tidewater Commons (McClellan Drive)
SUMMARY:Tidewater Block Watch Program
URL:https://tidewater-hoa.com/news/events/event/39-tidewater-block-watch-pr
 ogram
END:VEVENT
END:VCALENDAR
