BEGIN:VCALENDAR
VERSION:2.0
PRODID:-//https://tidewater-hoa.com///NONSGML kigkonsult.se iCalcreator 2.10.15//
METHOD:PUBLISH
BEGIN:VEVENT
UID:20260423T171843MDT-7502ot6rOj@https://tidewater-hoa.com/
DTSTAMP:20260423T231843Z
DESCRIPTION:The Planning Commission hears applications for land use\, zonin
 g classifications\, recommends legislative actions\, reviews legislation\,
  rules\, and regulations re: city planning\, land use\, and zoning.Informa
 l Meetings (I) are held at Village Hall (99 W. Main Street) the 1st Monday
  of each month at 7:00 p.m. Regular meetings (R) are held at Village Hall 
 (99 W. Main Street) the 3rd Monday of each month at 7:00 p.m. https://tide
 water-hoa.com/news/events/event/43-new-albany-city-planning-commission-mee
 ting
DTSTART:20250421T230000Z
DTEND:20250422T010000Z
LOCATION:99 W Main Street New Albany OH 43054 (99 W Main Street New Albany 
 OH 43054)
SUMMARY:New Albany City Planning Commission Meeting
URL:https://tidewater-hoa.com/news/events/event/43-new-albany-city-planning
 -commission-meeting
END:VEVENT
END:VCALENDAR
