BEGIN:VCALENDAR
VERSION:2.0
PRODID:-//https://tidewater-hoa.com///NONSGML kigkonsult.se iCalcreator 2.10.15//
METHOD:PUBLISH
BEGIN:VEVENT
UID:20260423T155122MDT-6484WrvBti@https://tidewater-hoa.com/
DTSTAMP:20260423T215122Z
DESCRIPTION:Let's fire up the grill one more time to celebrate the end of a
  great summer! You and your family are cordially invited to our Fall Famil
 y BBQ\, hosted in partnership with the New Albany Police Department.\nIt's
  the perfect opportunity to relax\, connect with your neighbors\, and let 
 the kids play while enjoying classic BBQ fare. The NAPD will be grilling u
 p delicious burgers\, brats\, and hot dogs for everyone!\nPlus\, this is a
  wonderful chance to chat with our Tidewater liaison\, Officer Warner\, in
  a friendly and casual setting. Bring any questions you may have about loc
 al police services and get to know the officers who help keep our communit
 y safe.\nHere’s How You Can Participate:\n\n\nWe'll Provide:&nbsp\;The mai
 n course (burgers\, brats\, hot dogs)\, all the condiments\, and serving u
 tensils.\n\n\nPlease Bring:&nbsp\;A side dish to share (potluck-style!)\, 
 your favorite beverages\, and a lawn chair or blanket for seating.\n\n\nWe
  can't wait to see you on the green space along McClellan Drive for an aft
 ernoon of community fun! https://tidewater-hoa.com/news/events/event/45-fa
 ll-family-cookout
DTSTART:20251002T210000Z
DTEND:20251002T230000Z
LOCATION:Tidewater Green ()
SUMMARY:Fall Family Cookout
URL:https://tidewater-hoa.com/news/events/event/45-fall-family-cookout
END:VEVENT
END:VCALENDAR
