BEGIN:VCALENDAR
VERSION:2.0
PRODID:-//https://tidewater-hoa.com///NONSGML kigkonsult.se iCalcreator 2.10.15//
METHOD:PUBLISH
BEGIN:VEVENT
UID:20260423T154959MDT-0886iWcC6f@https://tidewater-hoa.com/
DTSTAMP:20260423T214959Z
DESCRIPTION:When Halloween\, October 31\, falls on a Friday\, Saturday\, or
  Sunday\, Trick or Treat is held the Thursday prior to October 31. When Oc
 tober 31 falls on a Monday\, Tuesday\, Wednesday\, or Thursday\, Trick or 
 Treat is held on October 31.\nhttps://cm.newalbanychamber.com/events/detai
 ls/trick-or-treat-new-albany-20632?calendarMonth=2025-10-01 https://tidewa
 ter-hoa.com/news/events/event/50-trick-or-treat-new-albany
DTSTART:20251030T220000Z
DTEND:20251031T000000Z
LOCATION:Tidewater neighborhood ()
SUMMARY:Trick or Treat New Albany
URL:https://tidewater-hoa.com/news/events/event/50-trick-or-treat-new-alban
 y
END:VEVENT
END:VCALENDAR
