BEGIN:VCALENDAR
VERSION:2.0
PRODID:-//https://tidewater-hoa.com///NONSGML kigkonsult.se iCalcreator 2.10.15//
METHOD:PUBLISH
BEGIN:VEVENT
UID:20260423T171956MDT-2617tMl8vL@https://tidewater-hoa.com/
DTSTAMP:20260423T231956Z
DESCRIPTION:City council may hold special council meetings and workshops\, 
 as needed. They may cancel a meeting due to lack of agenda items. Notices 
 of special meetings and workshops will&nbsp\;be posted on the city's websi
 te and on bulletin boards at Village Hall and the Public Service Complex. 
 Please check the city's&nbsp\;website&nbsp\;and/or the bulletin boards for
  any changes or cancellations before attending. https://tidewater-hoa.com/
 news/events/event/51-new-albany-city-council-meeting
DTSTART:20251104T233000Z
DTEND:20251105T013000Z
LOCATION:99 W. Main St New Albany\, OH 43054 (99 W. Main St New Albany\, OH
  43054)
SUMMARY:New Albany City Council Meeting
URL:https://tidewater-hoa.com/news/events/event/51-new-albany-city-council-
 meeting
END:VEVENT
END:VCALENDAR
