BEGIN:VCALENDAR
VERSION:2.0
PRODID:-//https://tidewater-hoa.com///NONSGML kigkonsult.se iCalcreator 2.10.15//
METHOD:PUBLISH
BEGIN:VEVENT
UID:20260423T153600MDT-7763stl440@https://tidewater-hoa.com/
DTSTAMP:20260423T213600Z
DESCRIPTION:Holiday lights should be turned off by Jan 15th https://tidewat
 er-hoa.com/news/events/event/53-holiday-lights-turned-off
DTSTART;VALUE=DATE:20260115
LOCATION:Tidewater neighborhood ()
SUMMARY:Holiday Lights Turned Off
URL:https://tidewater-hoa.com/news/events/event/53-holiday-lights-turned-of
 f
END:VEVENT
END:VCALENDAR
