BEGIN:VCALENDAR
VERSION:2.0
PRODID:-//https://tidewater-hoa.com///NONSGML kigkonsult.se iCalcreator 2.10.15//
METHOD:PUBLISH
BEGIN:VEVENT
UID:20260423T140249MDT-060567MT27@https://tidewater-hoa.com/
DTSTAMP:20260423T200249Z
DESCRIPTION:Groundhog Day https://tidewater-hoa.com/news/events/event/57-gr
 oundhog-day
DTSTART;VALUE=DATE:20260202
LOCATION:Tidewater New Albany ()
SUMMARY:Groundhog Day
URL:https://tidewater-hoa.com/news/events/event/57-groundhog-day
END:VEVENT
END:VCALENDAR
