BEGIN:VCALENDAR
VERSION:2.0
PRODID:-//https://tidewater-hoa.com///NONSGML kigkonsult.se iCalcreator 2.10.15//
METHOD:PUBLISH
BEGIN:VEVENT
UID:20260423T140729MDT-0791wTge2a@https://tidewater-hoa.com/
DTSTAMP:20260423T200729Z
DESCRIPTION:Super Bowl Sunday https://tidewater-hoa.com/news/events/event/5
 8-super-bowl-sunday
DTSTART;VALUE=DATE:20260209
LOCATION:Tidewater New Albany ()
SUMMARY:Super Bowl Sunday
URL:https://tidewater-hoa.com/news/events/event/58-super-bowl-sunday
END:VEVENT
END:VCALENDAR
