BEGIN:VCALENDAR
VERSION:2.0
PRODID:-//https://tidewater-hoa.com///NONSGML kigkonsult.se iCalcreator 2.10.15//
METHOD:PUBLISH
BEGIN:VEVENT
UID:20260423T140728MDT-52652E240e@https://tidewater-hoa.com/
DTSTAMP:20260423T200728Z
DESCRIPTION:Seasonal Reminders\n\nCheck furnace filters\nWatch for ice dams
  after snow/thaw cycles\nPresidents' Day sales – good time to plan spring 
 projects\nStart getting quotes for spring landscaping/home projects\n http
 s://tidewater-hoa.com/news/events/event/61-seasonal-reminders
DTSTART;VALUE=DATE:20260201
LOCATION:Tidewater New Albany ()
SUMMARY:Seasonal Reminders
URL:https://tidewater-hoa.com/news/events/event/61-seasonal-reminders
END:VEVENT
END:VCALENDAR
