BEGIN:VCALENDAR
VERSION:2.0
PRODID:-//https://tidewater-hoa.com///NONSGML kigkonsult.se iCalcreator 2.10.15//
METHOD:PUBLISH
BEGIN:VEVENT
UID:20260423T120045MDT-2492pO6xAd@https://tidewater-hoa.com/
DTSTAMP:20260423T180045Z
DESCRIPTION:Daylight Saving Time begins (clocks spring forward) https://tid
 ewater-hoa.com/news/events/event/62-daylight-saving-time-begins-clocks-spr
 ing-forward
DTSTART;VALUE=DATE:20260309
LOCATION:Tidewater New Albany ()
SUMMARY:Daylight Saving Time begins (clocks spring forward)
URL:https://tidewater-hoa.com/news/events/event/62-daylight-saving-time-beg
 ins-clocks-spring-forward
END:VEVENT
END:VCALENDAR
