BEGIN:VCALENDAR
VERSION:2.0
PRODID:-//https://tidewater-hoa.com///NONSGML kigkonsult.se iCalcreator 2.10.15//
METHOD:PUBLISH
BEGIN:VEVENT
UID:20260423T140826MDT-0947ElfnaK@https://tidewater-hoa.com/
DTSTAMP:20260423T200826Z
DESCRIPTION: https://tidewater-hoa.com/news/events/event/55-annual-dues-due
DTSTART;VALUE=DATE:20260131
LOCATION:Tidewater New Albany ()
SUMMARY:Annual Dues Due
URL:https://tidewater-hoa.com/news/events/event/55-annual-dues-due
END:VEVENT
BEGIN:VEVENT
UID:20260423T140826MDT-0949Wzd13l@https://tidewater-hoa.com/
DTSTAMP:20260423T200826Z
DESCRIPTION:Seasonal Reminders\n\nCheck furnace filters\nWatch for ice dams
  after snow/thaw cycles\nPresidents' Day sales – good time to plan spring 
 projects\nStart getting quotes for spring landscaping/home projects\n http
 s://tidewater-hoa.com/news/events/event/61-seasonal-reminders
DTSTART;VALUE=DATE:20260201
LOCATION:Tidewater New Albany ()
SUMMARY:Seasonal Reminders
URL:https://tidewater-hoa.com/news/events/event/61-seasonal-reminders
END:VEVENT
BEGIN:VEVENT
UID:20260423T140826MDT-09500UaHfW@https://tidewater-hoa.com/
DTSTAMP:20260423T200826Z
DESCRIPTION:ODOT invites you to attend a Public Open House to provide feedb
 ack regarding this project.&nbsp\;\nTo ensure the proposed project is viab
 le and successful\, we are asking all those interested to stop by anytime 
 during the timeframes listed below to learn more about the study\, chat wi
 th project team members\, ask questions\, and submit your feedback.\nWe wa
 nt your comments regarding the social\, environmental\, and economic impac
 ts of this proposed project. Additionally\, we would appreciate any inform
 ation you may have on the existence of cultural resources (archaeological\
 , historic\, architectural)\, ecological resources (streams\, wetlands\, e
 tc.)\, or hazardous materials (dump sites\, storage tanks\, etc.) within t
 he project area.\nWhen:&nbsp\;Thursday\, January 29\, 2026Morning Session:
 &nbsp\;9:30 – 11:30 a.m.Evening Session:&nbsp\;5:30 – 7:30 p.m.Where:&nbsp
 \;Church of Resurrection\, 6300 E Dublin Granville Rd\, New Albany\, OH 43
 054\n&nbsp\;\nhttps://publicinput.com/us62improvements#tab-72739 https://t
 idewater-hoa.com/news/events/event/71-odot-public-open-house
DTSTART:20260129T143000Z
DTEND:20260130T043000Z
LOCATION:6300 E Dublin Granville Rd\, New Albany\, OH 43054 (6300 E Dublin 
 Granville Rd\, New Albany\, OH 43054)
SUMMARY:ODOT Public Open House
URL:https://tidewater-hoa.com/news/events/event/71-odot-public-open-house
END:VEVENT
BEGIN:VEVENT
UID:20260423T140826MDT-0953ZvZi7x@https://tidewater-hoa.com/
DTSTAMP:20260423T200826Z
DESCRIPTION:ODOT invites you to attend a Public Open House to provide feedb
 ack regarding this project.&nbsp\;\nTo ensure the proposed project is viab
 le and successful\, we are asking all those interested to stop by anytime 
 during the timeframes listed below to learn more about the study\, chat wi
 th project team members\, ask questions\, and submit your feedback.\nWe wa
 nt your comments regarding the social\, environmental\, and economic impac
 ts of this proposed project. Additionally\, we would appreciate any inform
 ation you may have on the existence of cultural resources (archaeological\
 , historic\, architectural)\, ecological resources (streams\, wetlands\, e
 tc.)\, or hazardous materials (dump sites\, storage tanks\, etc.) within t
 he project area.\nWhen:&nbsp\;Thursday\, January 29\, 2026Morning Session:
 &nbsp\;9:30 – 11:30 a.m.Evening Session:&nbsp\;5:30 – 7:30 p.m.Where:&nbsp
 \;Church of Resurrection\, 6300 E Dublin Granville Rd\, New Albany\, OH 43
 054\nhttps://publicinput.com/us62improvements#tab-72739 https://tidewater-
 hoa.com/news/events/event/72-odot-public-open-house-2
DTSTART:20260129T103045Z
DTEND:20260130T003000Z
LOCATION:6300 E Dublin Granville Rd\, New Albany\, OH 43054 (6300 E Dublin 
 Granville Rd\, New Albany\, OH 43054)
SUMMARY:ODOT Public Open House 2
URL:https://tidewater-hoa.com/news/events/event/72-odot-public-open-house-2
END:VEVENT
END:VCALENDAR
