BEGIN:VCALENDAR
VERSION:2.0
PRODID:-//https://tidewater-hoa.com///NONSGML kigkonsult.se iCalcreator 2.10.15//
METHOD:PUBLISH
BEGIN:VEVENT
UID:20260423T140809MDT-9616XZCpKl@https://tidewater-hoa.com/
DTSTAMP:20260423T200809Z
DESCRIPTION:Lights should be taken down by Feb 15th https://tidewater-hoa.c
 om/news/events/event/54-holiday-lights-removed
DTSTART;VALUE=DATE:20260215
LOCATION:Tidewater neighborhood ()
SUMMARY:Holiday Lights Removed
URL:https://tidewater-hoa.com/news/events/event/54-holiday-lights-removed
END:VEVENT
BEGIN:VEVENT
UID:20260423T140809MDT-9619emM2G8@https://tidewater-hoa.com/
DTSTAMP:20260423T200809Z
DESCRIPTION:Super Bowl Sunday https://tidewater-hoa.com/news/events/event/5
 8-super-bowl-sunday
DTSTART;VALUE=DATE:20260209
LOCATION:Tidewater New Albany ()
SUMMARY:Super Bowl Sunday
URL:https://tidewater-hoa.com/news/events/event/58-super-bowl-sunday
END:VEVENT
BEGIN:VEVENT
UID:20260423T140809MDT-9633bjdLuk@https://tidewater-hoa.com/
DTSTAMP:20260423T200809Z
DESCRIPTION:Valentine's Day https://tidewater-hoa.com/news/events/event/59-
 valentine-s-day
DTSTART;VALUE=DATE:20260214
LOCATION:Tidewater New Albany ()
SUMMARY:Valentine's Day
URL:https://tidewater-hoa.com/news/events/event/59-valentine-s-day
END:VEVENT
END:VCALENDAR
