BEGIN:VCALENDAR
VERSION:2.0
PRODID:-//https://tidewater-hoa.com///NONSGML kigkonsult.se iCalcreator 2.10.15//
METHOD:PUBLISH
BEGIN:VEVENT
UID:20260423T120427MDT-5709zoRnux@https://tidewater-hoa.com/
DTSTAMP:20260423T180427Z
DESCRIPTION:Seasonal Reminders\n\nDaylight Saving: Replace smoke/CO detecto
 r batteries\nSchedule A/C tune-up before the rush\nBegin gutter cleaning a
 fter snow melts\nWatch for sidewalk/driveway damage from winter\nMid-month
 : Apply pre-emergent crabgrass preventer when soil hits 55°F\n https://tid
 ewater-hoa.com/news/events/event/65-seasonal-reminders
DTSTART;VALUE=DATE:20260301
LOCATION:Tidewater New Albany ()
SUMMARY:Seasonal Reminders
URL:https://tidewater-hoa.com/news/events/event/65-seasonal-reminders
END:VEVENT
END:VCALENDAR
