BEGIN:VCALENDAR
VERSION:2.0
PRODID:-//https://tidewater-hoa.com///NONSGML kigkonsult.se iCalcreator 2.10.15//
METHOD:PUBLISH
BEGIN:VEVENT
UID:20260423T120530MDT-6967VSf6SO@https://tidewater-hoa.com/
DTSTAMP:20260423T180530Z
DESCRIPTION:St. Patrick's Day https://tidewater-hoa.com/news/events/event/6
 3-st-patrick-s-day
DTSTART;VALUE=DATE:20260317
LOCATION:Tidewater New Albany ()
SUMMARY:St. Patrick's Day
URL:https://tidewater-hoa.com/news/events/event/63-st-patrick-s-day
END:VEVENT
BEGIN:VEVENT
UID:20260423T120530MDT-6969VuzT2k@https://tidewater-hoa.com/
DTSTAMP:20260423T180530Z
DESCRIPTION:First Day of Spring https://tidewater-hoa.com/news/events/event
 /64-first-day-of-spring
DTSTART;VALUE=DATE:20260320
LOCATION:Tidewater New Albany ()
SUMMARY:First Day of Spring
URL:https://tidewater-hoa.com/news/events/event/64-first-day-of-spring
END:VEVENT
END:VCALENDAR
