BEGIN:VCALENDAR
VERSION:2.0
PRODID:-//https://tidewater-hoa.com///NONSGML kigkonsult.se iCalcreator 2.10.15//
METHOD:PUBLISH
BEGIN:VEVENT
UID:20260423T101028MDT-8510ls8BCi@https://tidewater-hoa.com/
DTSTAMP:20260423T161028Z
DESCRIPTION:Seasonal Reminders\n\nTurn on and inspect irrigation systems (a
 fter mid-April)\nDeadline for early spring overseeding\nBegin regular mowi
 ng when grass reaches 3-4 inches\nRefresh mulch in beds (2-3 inch layer)\n
 ARC reminder: Submit modification requests before starting outdoor project
 s\nPlant annuals after last frost (typically mid-to-late April)\n https://
 tidewater-hoa.com/news/events/event/70-seasonal-reminders
DTSTART;VALUE=DATE:20260401
LOCATION:Tidewater New Albany ()
SUMMARY:Seasonal Reminders
URL:https://tidewater-hoa.com/news/events/event/70-seasonal-reminders
END:VEVENT
END:VCALENDAR
