BEGIN:VCALENDAR
VERSION:2.0
PRODID:-//https://tidewater-hoa.com///NONSGML kigkonsult.se iCalcreator 2.10.15//
METHOD:PUBLISH
BEGIN:VEVENT
UID:20260423T101028MDT-5851eSF1HB@https://tidewater-hoa.com/
DTSTAMP:20260423T161028Z
DESCRIPTION:Easter Sunday https://tidewater-hoa.com/news/events/event/67-ea
 ster-sunday
DTSTART;VALUE=DATE:20260420
LOCATION:Tidewater New Albany ()
SUMMARY:Easter Sunday
URL:https://tidewater-hoa.com/news/events/event/67-easter-sunday
END:VEVENT
BEGIN:VEVENT
UID:20260423T101028MDT-5852zmJfSw@https://tidewater-hoa.com/
DTSTAMP:20260423T161028Z
DESCRIPTION:Earth Day https://tidewater-hoa.com/news/events/event/68-earth-
 day
DTSTART;VALUE=DATE:20260422
LOCATION:Tidewater New Albany ()
SUMMARY:Earth Day
URL:https://tidewater-hoa.com/news/events/event/68-earth-day
END:VEVENT
BEGIN:VEVENT
UID:20260423T101028MDT-5853VCKACa@https://tidewater-hoa.com/
DTSTAMP:20260423T161028Z
DESCRIPTION:Arbor Day https://tidewater-hoa.com/news/events/event/69-arbor-
 day
DTSTART;VALUE=DATE:20260425
LOCATION:Tidewater New Albany ()
SUMMARY:Arbor Day
URL:https://tidewater-hoa.com/news/events/event/69-arbor-day
END:VEVENT
END:VCALENDAR
