BEGIN:VCALENDAR
VERSION:2.0
PRODID:-//https://tidewater-hoa.com///NONSGML kigkonsult.se iCalcreator 2.10.15//
METHOD:PUBLISH
BEGIN:VEVENT
UID:20260423T202932MDT-9714ApPK82@https://tidewater-hoa.com/
DTSTAMP:20260424T022932Z
DESCRIPTION:City council may hold special council meetings and workshops\, 
 as needed. They may cancel a meeting due to lack of agenda items. Notices 
 of special meetings and workshops will&nbsp\;be posted on the city's websi
 te and on bulletin boards at Village Hall and the Public Service Complex. 
 Please check the city's&nbsp\;website&nbsp\;and/or the bulletin boards for
  any changes or cancellations before attending. https://tidewater-hoa.com/
 news/events/event/48-new-albany-city-council-meeting
DTSTART:20251021T223000Z
DTEND:20251022T003000Z
LOCATION:99 W. Main St New Albany\, OH 43054 (99 W. Main St New Albany\, OH
  43054)
SUMMARY:New Albany City Council Meeting
URL:https://tidewater-hoa.com/news/events/event/48-new-albany-city-council-
 meeting
END:VEVENT
BEGIN:VEVENT
UID:20260423T202932MDT-9717gE5hwM@https://tidewater-hoa.com/
DTSTAMP:20260424T022932Z
DESCRIPTION:The New Albany Parks and Recreation invites you to the Fifth An
 nual Trunk or Treat! This exciting event welcomes local businesses\, non-p
 rofits\, organizations\, and teams to decorate their trunks\, tailgates\, 
 and tables\, offering candy\, goodies\, and games for the trunk-or-treater
 s. https://tidewater-hoa.com/news/events/event/49-trunk-or-treat
DTSTART:20251025T190000Z
DTEND:20251025T220000Z
LOCATION:7860 Bevelhymer Road\, New Albany\, OH 43054 (7860 Bevelhymer Road
 \, New Albany\, OH 43054)
SUMMARY:Trunk or Treat
URL:https://tidewater-hoa.com/news/events/event/49-trunk-or-treat
END:VEVENT
END:VCALENDAR
