BEGIN:VCALENDAR
VERSION:2.0
PRODID:-//https://tidewater-hoa.com///NONSGML kigkonsult.se iCalcreator 2.10.15//
METHOD:PUBLISH
BEGIN:VEVENT
UID:20260423T184008MDT-6897hoclvi@https://tidewater-hoa.com/
DTSTAMP:20260424T004008Z
DESCRIPTION:https://cm.newalbanychamber.com/events/details/holiday-tree-lig
 hting-celebration-20043?calendarMonth=2025-11-01 https://tidewater-hoa.com
 /news/events/event/52-holiday-tree-lighting-celebration
DTSTART:20251123T200000Z
DTEND:20251123T230000Z
LOCATION:Market Square New Albany\, OH 43045 (Market Square New Albany\, OH
  43045)
SUMMARY:Holiday Tree Lighting Celebration
URL:https://tidewater-hoa.com/news/events/event/52-holiday-tree-lighting-ce
 lebration
END:VEVENT
END:VCALENDAR
