BEGIN:VCALENDAR
VERSION:2.0
PRODID:-//https://tidewater-hoa.com///NONSGML kigkonsult.se iCalcreator 2.10.15//
METHOD:PUBLISH
BEGIN:VEVENT
UID:20260423T130148MDT-4267F6VfDl@https://tidewater-hoa.com/
DTSTAMP:20260423T190148Z
DESCRIPTION:We’re hosting our third annual toy drive to support the Columbu
 s Toys for Tots campaign. Bring new\, unwrapped toys for children of all a
 ges and help spread holiday cheer.\nLet’s come together to make a differen
 ce this season! Learn More https://tidewater-hoa.com/news/events/event/41-
 new-albany-police-department-toy-drive
DTSTART:20241207T160000Z
DTEND:20241207T190000Z
LOCATION:Village Hall New Albany (99 W Main Street\, New Albany\, OH)
SUMMARY:New Albany Police Department Toy Drive
URL:https://tidewater-hoa.com/news/events/event/41-new-albany-police-depart
 ment-toy-drive
END:VEVENT
END:VCALENDAR
