BEGIN:VCALENDAR
VERSION:2.0
PRODID:-//https://tidewater-hoa.com///NONSGML kigkonsult.se iCalcreator 2.10.15//
METHOD:PUBLISH
BEGIN:VEVENT
UID:20260423T130358MDT-92254eTVvH@https://tidewater-hoa.com/
DTSTAMP:20260423T190358Z
DESCRIPTION:Join Us in Honoring Our VeteransThree locations in New Albany w
 ill host ceremonies and wreath placements this year:\n\nMaplewood Cemetery
  – 4585 Reynoldsburg-New Albany Rd\, New Albany\, Ohio 43054📍 Ceremony at 
 12:00 PM\, followed by wreath placement.This is our largest and longest-st
 anding ceremony\, drawing up to 100 volunteers annually. The ceremony last
 s about 20 minutes\, and distributing wreaths takes approximately 90 minut
 es. Volunteers can park near the maintenance buildings and the loop by the
  large barn.🔗 Learn more or sponsor a wreath:&nbsp\;wreathsacrossamerica.o
 rg/pages/173113/Overview\nFounders Field – Behind Village Hall\, 99 W Main
  St\, New Albany\, Ohio 43054📍 Ceremony at 2:00 PM\, followed by wreath pl
 acement.This marks the first year Founders Field will participate in Wreat
 hs Across America\, and we hope to see a strong community presence. While 
 wreaths have already been sponsored\, volunteers are still needed to help 
 with placement and to honor the lives of those interred here.🔗 Learn more 
 or sponsor a wreath:&nbsp\;wreathsacrossamerica.org/pages/182797/Overview
 \nWagnor Cemetery – 6904 Central College Rd\, New Albany\, OH 43054📍 Cerem
 ony at 3:00 PM\, followed by wreath placement.This is also the first year 
 Wagnor Cemetery is part of this important tradition. Due to the cemetery’s
  location\, parking is limited\, but the need for volunteers remains signi
 ficant.🔗 Learn more or sponsor a wreath:&nbsp\;wreathsacrossamerica.org/pa
 ges/182798/Overview\n\nHow You Can Make a DifferenceVolunteering is simple
  and impactful—just show up at any of the three locations and join fellow 
 community members in honoring our local veterans. There’s no need to sign 
 up in advance. Additionally\, we encourage everyone to sponsor wreaths to 
 ensure that each veteran’s grave is recognized and remembered. Your suppor
 t directly contributes to the success of this meaningful tribute.\nWhy It 
 MattersWreaths Across America’s mission is clear:&nbsp\;Remember. Honor. T
 each.&nbsp\;By participating in these ceremonies\, we remember the fallen\
 , honor those who serve\, and teach the next generation about the value of
  freedom. Each wreath laid is a symbol of respect and gratitude\, remindin
 g us all of the sacrifices made for our country.\nJoin us on December 14th
  to ensure every hero is honored. Together\, we can make this year’s Wreat
 hs Across America event in New Albany a powerful tribute to those who gave
  so much. https://tidewater-hoa.com/news/events/event/42-wreaths-across-am
 erica-honoring-our-heroes-in-new-albany
DTSTART;VALUE=DATE:20241214
LOCATION:New Albany\, OH (New Albany\, OH)
SUMMARY:Wreaths Across America: Honoring Our Heroes in New Albany
URL:https://tidewater-hoa.com/news/events/event/42-wreaths-across-america-h
 onoring-our-heroes-in-new-albany
END:VEVENT
END:VCALENDAR
